


BEGIN:VCALENDAR
VERSION:2.0
PRODID:-//wp-events-plugin.com//7.2.3.1//EN
BEGIN:VEVENT
UID:2@acx.net
DTSTART;VALUE=DATE:20221122
DTEND;VALUE=DATE:20221123
DTSTAMP:20230330T012811Z
URL:https://acx.net/events/practical-introduction-to-carbon-trading-in-the
 -vcm/
SUMMARY:Practical introduction to carbon trading in the VCM
DESCRIPTION:The session discussed the current Carbon Market landscape and e
 xplored in more detail the European and Asian markets
END:VEVENT
END:VCALENDAR