


BEGIN:VCALENDAR
VERSION:2.0
PRODID:-//wp-events-plugin.com//7.2.3.1//EN
BEGIN:VEVENT
UID:14@acx.net
DTSTART;VALUE=DATE:20231024
DTEND;VALUE=DATE:20231027
DTSTAMP:20230504T035741Z
URL:https://acx.net/events/aces-2023/
SUMMARY:Asia Clean Energy Summit (ACES) 2023
DESCRIPTION:ACX will be exhibiting at the Asia Clean Energy Summit (ACES) 2
 023!\n\nACES is Singapore's leading event focusing on clean energy technol
 ogy\, policy and finance supported by leading government agencies\, resear
 ch institutes and industries. Held as part of the Singapore International 
 Energy Week (SIEW)\, ACES provides a common platform for regional thought 
 leaders in both the public and private sector to collaborate on critical i
 ssues and opportunities in harnessing clean energy for the future.\n\nMore
  information about the event is available on: http://www.asiacleanenergysu
 mmit.com/
ATTACH;FMTTYPE=image/jpeg:https://i0.wp.com/acx.net/wp-content/uploads/202
 3/03/ice_landscape-scaled-1.jpg?fit=2560%2C1707&ssl=1
END:VEVENT
END:VCALENDAR